BEGIN:VCALENDAR
VERSION:2.0
PRODID:-//Foundation of Little Village - ECPv6.15.11//NONSGML v1.0//EN
CALSCALE:GREGORIAN
METHOD:PUBLISH
X-WR-CALNAME:Foundation of Little Village
X-ORIGINAL-URL:https://flvchicago.org/es
X-WR-CALDESC:Eventos para Foundation of Little Village
REFRESH-INTERVAL;VALUE=DURATION:PT1H
X-Robots-Tag:noindex
X-PUBLISHED-TTL:PT1H
BEGIN:VTIMEZONE
TZID:America/Chicago
BEGIN:DAYLIGHT
TZOFFSETFROM:-0600
TZOFFSETTO:-0500
TZNAME:CDT
DTSTART:20250309T080000
END:DAYLIGHT
BEGIN:STANDARD
TZOFFSETFROM:-0500
TZOFFSETTO:-0600
TZNAME:CST
DTSTART:20251102T070000
END:STANDARD
BEGIN:DAYLIGHT
TZOFFSETFROM:-0600
TZOFFSETTO:-0500
TZNAME:CDT
DTSTART:20260308T080000
END:DAYLIGHT
BEGIN:STANDARD
TZOFFSETFROM:-0500
TZOFFSETTO:-0600
TZNAME:CST
DTSTART:20261101T070000
END:STANDARD
BEGIN:DAYLIGHT
TZOFFSETFROM:-0600
TZOFFSETTO:-0500
TZNAME:CDT
DTSTART:20270314T080000
END:DAYLIGHT
BEGIN:STANDARD
TZOFFSETFROM:-0500
TZOFFSETTO:-0600
TZNAME:CST
DTSTART:20271107T070000
END:STANDARD
END:VTIMEZONE
BEGIN:VEVENT
DTSTART;TZID=America/Chicago:20260422T100000
DTEND;TZID=America/Chicago:20260422T110000
DTSTAMP:20260422T054845
CREATED:20260318T184215Z
LAST-MODIFIED:20260326T185433Z
UID:27292-1776852000-1776855600@flvchicago.org
SUMMARY:04.22 | Cómo las Empresas Utilizan el Crédito
DESCRIPTION:📝 Descripción: ¿Eres emprendedor o tienes un pequeño negocio y quieres tomar mejores decisiones financieras? Acompáñanos en este taller donde hablaremos de cómo las empresas utilizan el crédito de forma estratégica para crecer\, manejar el flujo de efectivo y evitar errores costosos. Aprende de manera clara y práctica para que el crédito trabaje a favor de tu negocio. \n\n🗓️ Horario: Miércoles\, 22 de Abril\, 2026 a las 10:00am via Zoom\n🎙️ Presentador: Gaston Linan | Community Financial Wellness Advisor | Verve Credit Union\n🔗 Registro: https://forms.gle/hk7tKJz5FkQf1aiTA
URL:https://flvchicago.org/es/event/04-22-26-empresas-y-credito/
LOCATION:Online via Zoom
ATTACH;FMTTYPE=image/jpeg:https://flvchicago.org/wp-content/uploads/04.22.26_FLVx-Verve-1-scaled.jpg
ORGANIZER;CN="Foundation of Little Village":MAILTO:info@lvcfchicago.org
END:VEVENT
END:VCALENDAR