BEGIN:VCALENDAR
VERSION:2.0
PRODID:-//Foundation of Little Village - ECPv6.15.11//NONSGML v1.0//EN
CALSCALE:GREGORIAN
METHOD:PUBLISH
X-ORIGINAL-URL:https://flvchicago.org
X-WR-CALDESC:Events for Foundation of Little Village
REFRESH-INTERVAL;VALUE=DURATION:PT1H
X-Robots-Tag:noindex
X-PUBLISHED-TTL:PT1H
BEGIN:VTIMEZONE
TZID:America/Chicago
BEGIN:DAYLIGHT
TZOFFSETFROM:-0600
TZOFFSETTO:-0500
TZNAME:CDT
DTSTART:20250309T080000
END:DAYLIGHT
BEGIN:STANDARD
TZOFFSETFROM:-0500
TZOFFSETTO:-0600
TZNAME:CST
DTSTART:20251102T070000
END:STANDARD
BEGIN:DAYLIGHT
TZOFFSETFROM:-0600
TZOFFSETTO:-0500
TZNAME:CDT
DTSTART:20260308T080000
END:DAYLIGHT
BEGIN:STANDARD
TZOFFSETFROM:-0500
TZOFFSETTO:-0600
TZNAME:CST
DTSTART:20261101T070000
END:STANDARD
BEGIN:DAYLIGHT
TZOFFSETFROM:-0600
TZOFFSETTO:-0500
TZNAME:CDT
DTSTART:20270314T080000
END:DAYLIGHT
BEGIN:STANDARD
TZOFFSETFROM:-0500
TZOFFSETTO:-0600
TZNAME:CST
DTSTART:20271107T070000
END:STANDARD
END:VTIMEZONE
BEGIN:VEVENT
DTSTART;TZID=America/Chicago:20260114T100000
DTEND;TZID=America/Chicago:20260114T110000
DTSTAMP:20260421T031110
CREATED:20260109T204811Z
LAST-MODIFIED:20260109T204811Z
UID:27177-1768384800-1768388400@flvchicago.org
SUMMARY:01.14 | Preparación para Impuestos de Pequeñas Empresas
DESCRIPTION:📝 Descripción: Seminario web que brinda a las pequeñas empresas una guía práctica para preparar impuestos\, maximizar deducciones\, cumplir con las leyes fiscales y evitar errores comunes\, con el fin de optimizar sus resultados financieros.\n\n🗓️ Horario: Miércoles\, 14 de Enero\, 2026 a las 10:00am via Zoom\n\n🎙️ Presentadora: Patricia Ortiz | TreeLife Financial Solutions\n\n\n🔗 Regístrate aquí: https://forms.gle/qE8fNhoVVWvHTWn28\n\nParticipantes registrados recibirán el enlace un día antes del taller por correo electrónico.
URL:https://flvchicago.org/event/preparacion-para-impuestos-de-pequenas-empresas/
LOCATION:Online via Zoom
ATTACH;FMTTYPE=image/jpeg:https://flvchicago.org/wp-content/uploads/1.14.26_FLVxTreeLife-Financial-Solutions-scaled.jpg
ORGANIZER;CN="Foundation of Little Village":MAILTO:info@lvcfchicago.org
END:VEVENT
BEGIN:VEVENT
DTSTART;TZID=America/Chicago:20260121T080000
DTEND;TZID=America/Chicago:20260121T090000
DTSTAMP:20260421T031110
CREATED:20260112T195721Z
LAST-MODIFIED:20260112T195721Z
UID:27196-1768982400-1768986000@flvchicago.org
SUMMARY:Crea Tu Visión Empresarial 2026
DESCRIPTION:Cafecito en La Xquina es un espacio de conversación en español donde emprendedores se reúnen para compartir experiencias y mejores prácticas. \nEn este cafecito hablaremos sobre el establecimiento de metas y vision boards\, mientras trabajamos juntos para aclarar objetivos personales y empresariales y construir una visión intencional para el 2026\, en un ambiente comunitario y colaborativo. \nPresentador: Paul Callejas | Foundation of Little Village \nÚnete a través del enlace: https://meet.google.com/xme-wzka-xhn
URL:https://flvchicago.org/event/tu-vision-empresarial-2026/
LOCATION:Online via Google Meet
ATTACH;FMTTYPE=image/jpeg:https://flvchicago.org/wp-content/uploads/1.21.26_CafecitoxPaul-scaled.jpg
ORGANIZER;CN="Foundation of Little Village":MAILTO:info@lvcfchicago.org
END:VEVENT
BEGIN:VEVENT
DTSTART;TZID=America/Chicago:20260128T100000
DTEND;TZID=America/Chicago:20260128T110000
DTSTAMP:20260421T031110
CREATED:20260109T205325Z
LAST-MODIFIED:20260109T205325Z
UID:27185-1769594400-1769598000@flvchicago.org
SUMMARY:01.28 | Emprende con Confianza: Cómo Vender tu Producto
DESCRIPTION:📝 Descripción: Un taller de motivación centrado en superar el miedo a vender\, comunicarse con confianza y conectar de forma auténtica.\n\n🗓️ Horario: Miércoles\, 28 de Enero\, 2026 a las 10:00am via Zoom\n\n🎙️ Presentadora: Jackie de Leon | Branding Pro LLC\n\n\n🔗 Regístrate aquí: https://forms.gle/hHnBAwtKJVAT4wBJA\n \nParticipantes registrados recibirán el enlace un día antes del taller por correo electrónico.
URL:https://flvchicago.org/event/como-vender-tu-producto/
LOCATION:Online via Zoom
ATTACH;FMTTYPE=image/jpeg:https://flvchicago.org/wp-content/uploads/1.28.26_FLVxBrandingPro-scaled.jpg
ORGANIZER;CN="Foundation of Little Village":MAILTO:info@lvcfchicago.org
END:VEVENT
END:VCALENDAR