BEGIN:VCALENDAR
VERSION:2.0
PRODID:-//Foundation of Little Village - ECPv6.15.11//NONSGML v1.0//EN
CALSCALE:GREGORIAN
METHOD:PUBLISH
X-WR-CALNAME:Foundation of Little Village
X-ORIGINAL-URL:https://flvchicago.org
X-WR-CALDESC:Events for Foundation of Little Village
REFRESH-INTERVAL;VALUE=DURATION:PT1H
X-Robots-Tag:noindex
X-PUBLISHED-TTL:PT1H
BEGIN:VTIMEZONE
TZID:America/Chicago
BEGIN:DAYLIGHT
TZOFFSETFROM:-0600
TZOFFSETTO:-0500
TZNAME:CDT
DTSTART:20250309T080000
END:DAYLIGHT
BEGIN:STANDARD
TZOFFSETFROM:-0500
TZOFFSETTO:-0600
TZNAME:CST
DTSTART:20251102T070000
END:STANDARD
BEGIN:DAYLIGHT
TZOFFSETFROM:-0600
TZOFFSETTO:-0500
TZNAME:CDT
DTSTART:20260308T080000
END:DAYLIGHT
BEGIN:STANDARD
TZOFFSETFROM:-0500
TZOFFSETTO:-0600
TZNAME:CST
DTSTART:20261101T070000
END:STANDARD
BEGIN:DAYLIGHT
TZOFFSETFROM:-0600
TZOFFSETTO:-0500
TZNAME:CDT
DTSTART:20270314T080000
END:DAYLIGHT
BEGIN:STANDARD
TZOFFSETFROM:-0500
TZOFFSETTO:-0600
TZNAME:CST
DTSTART:20271107T070000
END:STANDARD
END:VTIMEZONE
BEGIN:VEVENT
DTSTART;TZID=America/Chicago:20260415T080000
DTEND;TZID=America/Chicago:20260415T090000
DTSTAMP:20260420T022514
CREATED:20260202T194017Z
LAST-MODIFIED:20260413T193644Z
UID:27211-1776240000-1776243600@flvchicago.org
SUMMARY:Cafecito en La Xquina
DESCRIPTION:¡SOÑANDO\, PLANIFICANDO Y ACCIONANDO!\nTODO EMPEZÓ CON UN SUEÑO \nÚnete a nosotros y plática con Nancy Juárez de Placita Market que nos transmitirá su experiencia de convertir su sueño de negocio en realidad y cómo continúa fortaleciéndolo. \nHablaremos sobre: \n\nEl valor de empezar\, incluso cuando no todo es perfecto.\nLa constancia necesaria para crecer.\nLa pasión que impulsa a seguir adelante.\n\nEnlace de videollamada: https://meet.google.com/xme-wzka-xhn\nO marca: ‪(US) +1 720-398-5558‬ – PIN: ‪418 566 911‬#
URL:https://flvchicago.org/event/cafecito-en-la-xquina/
LOCATION:Online via Google Meet
ATTACH;FMTTYPE=image/jpeg:https://flvchicago.org/wp-content/uploads/4.15.26_CafecitoxPlacita-Market-scaled.jpg
END:VEVENT
BEGIN:VEVENT
DTSTART;TZID=America/Chicago:20260422T100000
DTEND;TZID=America/Chicago:20260422T110000
DTSTAMP:20260420T022514
CREATED:20260318T184215Z
LAST-MODIFIED:20260326T185433Z
UID:27292-1776852000-1776855600@flvchicago.org
SUMMARY:04.22 | Cómo las Empresas Utilizan el Crédito
DESCRIPTION:📝 Descripción: ¿Eres emprendedor o tienes un pequeño negocio y quieres tomar mejores decisiones financieras? Acompáñanos en este taller donde hablaremos de cómo las empresas utilizan el crédito de forma estratégica para crecer\, manejar el flujo de efectivo y evitar errores costosos. Aprende de manera clara y práctica para que el crédito trabaje a favor de tu negocio. \n\n🗓️ Horario: Miércoles\, 22 de Abril\, 2026 a las 10:00am via Zoom\n🎙️ Presentador: Gaston Linan | Community Financial Wellness Advisor | Verve Credit Union\n🔗 Registro: https://forms.gle/hk7tKJz5FkQf1aiTA
URL:https://flvchicago.org/event/04-22-26-empresas-y-credito/
LOCATION:Online via Zoom
ATTACH;FMTTYPE=image/jpeg:https://flvchicago.org/wp-content/uploads/04.22.26_FLVx-Verve-1-scaled.jpg
ORGANIZER;CN="Foundation of Little Village":MAILTO:info@lvcfchicago.org
END:VEVENT
BEGIN:VEVENT
DTSTART;TZID=America/Chicago:20260429T080000
DTEND;TZID=America/Chicago:20260429T090000
DTSTAMP:20260420T022514
CREATED:20260413T205633Z
LAST-MODIFIED:20260413T205633Z
UID:27326-1777449600-1777453200@flvchicago.org
SUMMARY:Cafecito en la Xquina
DESCRIPTION:SER DIFERENTE ES IMPORTANTE\, PERO SER RELEVANTE ES MEJOR \nAlejandro Abaunza de Nice and Clean\, nos va a platicar de estrategias que perduran. Hablaremos sobre: \n\nSer diferente genera ventas.\nLa conexión emocional y su importancia con el producto.\nEnamórate de las necesidades de tu cliente y destaca de todos los demás.\nSe parte de la comunidad y genera más ingresos.\n\nEnlace de videollamada: https://meet.google.com/xme-wzka-xhn\nO marque: ‪(US) +1 720-398-5558‬ PIN: ‪418 566 911‬#
URL:https://flvchicago.org/event/cafecito-042926/
LOCATION:Online via Google Meet
ATTACH;FMTTYPE=image/jpeg:https://flvchicago.org/wp-content/uploads/4.29.26_CafecitoxNiceandClean-scaled.jpg
END:VEVENT
BEGIN:VEVENT
DTSTART;TZID=America/Chicago:20260506T100000
DTEND;TZID=America/Chicago:20260506T110000
DTSTAMP:20260420T022514
CREATED:20260312T162036Z
LAST-MODIFIED:20260312T162036Z
UID:27284-1778061600-1778065200@flvchicago.org
SUMMARY:05.06 | Planeación de Retiro para Emprendedores
DESCRIPTION:📝 Descripción: Este taller ofrece una visión práctica de la planificación para la jubilación\, diseñada específicamente para propietarios de negocios. Los participantes aprenderán cómo construir seguridad financiera a largo plazo\, conocerán las opciones de cuentas de retiro disponibles para emprendedores y cómo alinear sus metas personales de jubilación con la estrategia de su negocio. \n\n🗓️ Horario: Miércoles\, 6 de Mayo\, 2026 a las 10:00am via Zoom\n🎙️ Presentador: Pablo Torres | Financial Advisor | Northwestern Mutual\n🔗 Registro: https://forms.gle/d8KYyTjavRijrRe67
URL:https://flvchicago.org/event/05-06-26-planeacion-de-retiro/
LOCATION:Online via Zoom
ATTACH;FMTTYPE=image/jpeg:https://flvchicago.org/wp-content/uploads/05.06.26_FLVxPabloWealthTalks-1-scaled.jpg
ORGANIZER;CN="Foundation of Little Village":MAILTO:info@lvcfchicago.org
END:VEVENT
BEGIN:VEVENT
DTSTART;TZID=America/Chicago:20260513T080000
DTEND;TZID=America/Chicago:20260513T090000
DTSTAMP:20260420T022514
CREATED:20260413T212156Z
LAST-MODIFIED:20260413T212156Z
UID:27328-1778659200-1778662800@flvchicago.org
SUMMARY:Cafecito en la Xquina
DESCRIPTION:TENDENCIAS EN PUBLICIDAD QUE HACEN CRECER TU NEGOCIO\nRoxy de Marketing Rox nos va a contar sobre las tendencias que están transformando la manera en que las marcas se comunican con sus clientes. Hablaremos sobre: \n\nImágenes y videos simples que hacen tu negocio visible.\nBranding clave en todos los materiales y canales de comunicación.\nContenido que conecta emocionalmente con el cliente y abre oportunidades.\n\nEnlace de videollamada: https://meet.google.com/xme-wzka-xhn\nO marca: ‪(US) +1 720-398-5558‬ PIN: ‪418 566 911‬#
URL:https://flvchicago.org/event/cafecito-051326/
LOCATION:Online via Google Meet
CATEGORIES:Community Event
ATTACH;FMTTYPE=image/jpeg:https://flvchicago.org/wp-content/uploads/5.13.26_CafecitoxMarketingRox-scaled.jpg
END:VEVENT
BEGIN:VEVENT
DTSTART;TZID=America/Chicago:20260520T100000
DTEND;TZID=America/Chicago:20260520T110000
DTSTAMP:20260420T022514
CREATED:20260408T201358Z
LAST-MODIFIED:20260408T201358Z
UID:27319-1779271200-1779274800@flvchicago.org
SUMMARY:05.20 | Transforma tu Contenido con IA: Más Impacto\, Menos Esfuerzo
DESCRIPTION:📝 Descripción: Descubre cómo aprovechar el poder de la inteligencia artificial para crear contenido de alta calidad de manera eficiente y constante. Este webinar interactivo explorará herramientas prácticas\, estrategias y ejemplos reales para ayudar a los emprendedores a optimizar su proceso de creación de contenido\, fortalecer su voz de marca y ahorrar tiempo valioso. \n  \n🗓️ Horario: Miércoles\, 20 de Mayo\, 2026 a las 10:00am via Zoom \n🎙️ Presentador: Ivan Aguirre | Director Creativo | Trinum Studio \n🔗 Registro: https://forms.gle/SDzZxYwMWdhG4NS69
URL:https://flvchicago.org/event/05-20-transforma-tu-contenido-con-ia/
LOCATION:Online via Zoom
ATTACH;FMTTYPE=image/jpeg:https://flvchicago.org/wp-content/uploads/05.20.26_FLVxTrinum-scaled.jpg
ORGANIZER;CN="Foundation of Little Village":MAILTO:info@lvcfchicago.org
END:VEVENT
BEGIN:VEVENT
DTSTART;TZID=America/Chicago:20260527T080000
DTEND;TZID=America/Chicago:20260527T090000
DTSTAMP:20260420T022514
CREATED:20260413T212840Z
LAST-MODIFIED:20260413T212918Z
UID:27332-1779868800-1779872400@flvchicago.org
SUMMARY:Cafecito en la Xquina
DESCRIPTION:REDES QUE VENDEN DE SEGUIDORES A CLIENTES \n\nTomate un cafecito virtual con Lety de Very Bonita y aprende como aumentar la visibilidad de tu marca. Hablaremos sobre: \n\nCómo generar contenido para mantener visibilidad.\nInteractuar con los seguidores y crear comunidad.\nConvertir seguidores en clientes.\n\nUtilice el enlace de Google para conectarse: https://meet.google.com/xme-wzka-xhn\nO marca: ‪(US) +1 720-398-5558‬ – PIN: ‪418 566 911‬#
URL:https://flvchicago.org/event/cafecito-052726/
LOCATION:Online via Google Meet
CATEGORIES:Community Event
ATTACH;FMTTYPE=image/jpeg:https://flvchicago.org/wp-content/uploads/5.27.26_CafecitoxVeryBonitaInc-scaled.jpg
END:VEVENT
END:VCALENDAR