BEGIN:VCALENDAR
VERSION:2.0
PRODID:-//Foundation of Little Village - ECPv6.15.11//NONSGML v1.0//EN
CALSCALE:GREGORIAN
METHOD:PUBLISH
X-WR-CALNAME:Foundation of Little Village
X-ORIGINAL-URL:https://flvchicago.org
X-WR-CALDESC:Events for Foundation of Little Village
REFRESH-INTERVAL;VALUE=DURATION:PT1H
X-Robots-Tag:noindex
X-PUBLISHED-TTL:PT1H
BEGIN:VTIMEZONE
TZID:America/Chicago
BEGIN:DAYLIGHT
TZOFFSETFROM:-0600
TZOFFSETTO:-0500
TZNAME:CDT
DTSTART:20240310T080000
END:DAYLIGHT
BEGIN:STANDARD
TZOFFSETFROM:-0500
TZOFFSETTO:-0600
TZNAME:CST
DTSTART:20241103T070000
END:STANDARD
BEGIN:DAYLIGHT
TZOFFSETFROM:-0600
TZOFFSETTO:-0500
TZNAME:CDT
DTSTART:20250309T080000
END:DAYLIGHT
BEGIN:STANDARD
TZOFFSETFROM:-0500
TZOFFSETTO:-0600
TZNAME:CST
DTSTART:20251102T070000
END:STANDARD
BEGIN:DAYLIGHT
TZOFFSETFROM:-0600
TZOFFSETTO:-0500
TZNAME:CDT
DTSTART:20260308T080000
END:DAYLIGHT
BEGIN:STANDARD
TZOFFSETFROM:-0500
TZOFFSETTO:-0600
TZNAME:CST
DTSTART:20261101T070000
END:STANDARD
BEGIN:DAYLIGHT
TZOFFSETFROM:-0600
TZOFFSETTO:-0500
TZNAME:CDT
DTSTART:20270314T080000
END:DAYLIGHT
BEGIN:STANDARD
TZOFFSETFROM:-0500
TZOFFSETTO:-0600
TZNAME:CST
DTSTART:20271107T070000
END:STANDARD
END:VTIMEZONE
BEGIN:VEVENT
DTSTART;TZID=America/Chicago:20251121T180000
DTEND;TZID=America/Chicago:20251121T200000
DTSTAMP:20260420T022514
CREATED:20251117T224624Z
LAST-MODIFIED:20251117T224624Z
UID:27155-1763748000-1763755200@flvchicago.org
SUMMARY:First Annual Posada
DESCRIPTION:Led by our Xquina Advisory Board\, we invite you to celebrate the season and connect with local leaders\, entrepreneurs\, and community members. \nJoin us for our first posada this Friday\, November 21st from 6pm to 8pm. \nReserve your spot now: https://bit.ly/XquinaABPosada
URL:https://flvchicago.org/event/first-annual-posada/
CATEGORIES:Community Event
ATTACH;FMTTYPE=image/jpeg:https://flvchicago.org/wp-content/uploads/ENG_FLYER_Xquina_Posada-2025-scaled.jpg
END:VEVENT
BEGIN:VEVENT
DTSTART;VALUE=DATE:20251202
DTEND;VALUE=DATE:20251203
DTSTAMP:20260420T022514
CREATED:20251118T193319Z
LAST-MODIFIED:20251118T221804Z
UID:27161-1764633600-1764719999@flvchicago.org
SUMMARY:Giving Tuesday
DESCRIPTION:Support the Foundation of Little Village this Giving Tuesday \nSince 2018\, the Foundation of Little Village has championed entrepreneurial opportunities that strengthen the economic wellness of our community. Over the last seven years\, we’ve supported more than 1\,200 local entrepreneurs through 31 dedicated cohorts each one driven by people who are building community wealth for their families and for Little Village. \nToday\, as our community faces some of its most difficult economic\, educational\, and family challenges\, our commitment remains unwavering. And now\, more than ever\, we need your support. Your Giving Tuesday donation will help us continue growing a resilient network of local entrepreneurs each bringing their own vision\, energy\, and determination to create a stronger future. \nWe are committed to making dreams a reality. \nJoin us with a donation today. Together\, we build community wealth. \nMake a donation: https://bit.ly/FLVDonate
URL:https://flvchicago.org/event/giving-tuesday-2025/
ATTACH;FMTTYPE=image/jpeg:https://flvchicago.org/wp-content/uploads/SHARED_Giving-Tuesday-FLV-scaled.jpg
ORGANIZER;CN="Foundation of Little Village":MAILTO:info@lvcfchicago.org
END:VEVENT
BEGIN:VEVENT
DTSTART;TZID=America/Chicago:20251203T100000
DTEND;TZID=America/Chicago:20251203T110000
DTSTAMP:20260420T022514
CREATED:20251104T194946Z
LAST-MODIFIED:20251104T194946Z
UID:27133-1764756000-1764759600@flvchicago.org
SUMMARY:12.03 | Inversión Inteligente\, Marca Fuerte
DESCRIPTION:📝 Descripción: Tu presupuesto no te frena la creatividad — la encamina. Tu inversión en marketing es el\nmotor que mueve la visibilidad y la confianza de tu negocio dentro de tu comunidad. \n\n🗓️ Miércoles\, Diciembre 3\, 2025 a las 10:00am via Zoom\n \n🎙️ Presentadora: Karina Tijerina | HeadTurn Creative\n\n\n🔗 Registracion: https://forms.gle/iAVZuj55K23PVmmr6
URL:https://flvchicago.org/event/inversion-inteligente/
LOCATION:Online via Zoom
ATTACH;FMTTYPE=image/jpeg:https://flvchicago.org/wp-content/uploads/12.03.25_Headturn_FLV-1-scaled.jpg
ORGANIZER;CN="Foundation of Little Village":MAILTO:info@lvcfchicago.org
END:VEVENT
BEGIN:VEVENT
DTSTART;TZID=America/Chicago:20260114T100000
DTEND;TZID=America/Chicago:20260114T110000
DTSTAMP:20260420T022514
CREATED:20260109T204811Z
LAST-MODIFIED:20260109T204811Z
UID:27177-1768384800-1768388400@flvchicago.org
SUMMARY:01.14 | Preparación para Impuestos de Pequeñas Empresas
DESCRIPTION:📝 Descripción: Seminario web que brinda a las pequeñas empresas una guía práctica para preparar impuestos\, maximizar deducciones\, cumplir con las leyes fiscales y evitar errores comunes\, con el fin de optimizar sus resultados financieros.\n\n🗓️ Horario: Miércoles\, 14 de Enero\, 2026 a las 10:00am via Zoom\n\n🎙️ Presentadora: Patricia Ortiz | TreeLife Financial Solutions\n\n\n🔗 Regístrate aquí: https://forms.gle/qE8fNhoVVWvHTWn28\n\nParticipantes registrados recibirán el enlace un día antes del taller por correo electrónico.
URL:https://flvchicago.org/event/preparacion-para-impuestos-de-pequenas-empresas/
LOCATION:Online via Zoom
ATTACH;FMTTYPE=image/jpeg:https://flvchicago.org/wp-content/uploads/1.14.26_FLVxTreeLife-Financial-Solutions-scaled.jpg
ORGANIZER;CN="Foundation of Little Village":MAILTO:info@lvcfchicago.org
END:VEVENT
BEGIN:VEVENT
DTSTART;TZID=America/Chicago:20260121T080000
DTEND;TZID=America/Chicago:20260121T090000
DTSTAMP:20260420T022514
CREATED:20260112T195721Z
LAST-MODIFIED:20260112T195721Z
UID:27196-1768982400-1768986000@flvchicago.org
SUMMARY:Crea Tu Visión Empresarial 2026
DESCRIPTION:Cafecito en La Xquina es un espacio de conversación en español donde emprendedores se reúnen para compartir experiencias y mejores prácticas. \nEn este cafecito hablaremos sobre el establecimiento de metas y vision boards\, mientras trabajamos juntos para aclarar objetivos personales y empresariales y construir una visión intencional para el 2026\, en un ambiente comunitario y colaborativo. \nPresentador: Paul Callejas | Foundation of Little Village \nÚnete a través del enlace: https://meet.google.com/xme-wzka-xhn
URL:https://flvchicago.org/event/tu-vision-empresarial-2026/
LOCATION:Online via Google Meet
ATTACH;FMTTYPE=image/jpeg:https://flvchicago.org/wp-content/uploads/1.21.26_CafecitoxPaul-scaled.jpg
ORGANIZER;CN="Foundation of Little Village":MAILTO:info@lvcfchicago.org
END:VEVENT
BEGIN:VEVENT
DTSTART;TZID=America/Chicago:20260128T100000
DTEND;TZID=America/Chicago:20260128T110000
DTSTAMP:20260420T022514
CREATED:20260109T205325Z
LAST-MODIFIED:20260109T205325Z
UID:27185-1769594400-1769598000@flvchicago.org
SUMMARY:01.28 | Emprende con Confianza: Cómo Vender tu Producto
DESCRIPTION:📝 Descripción: Un taller de motivación centrado en superar el miedo a vender\, comunicarse con confianza y conectar de forma auténtica.\n\n🗓️ Horario: Miércoles\, 28 de Enero\, 2026 a las 10:00am via Zoom\n\n🎙️ Presentadora: Jackie de Leon | Branding Pro LLC\n\n\n🔗 Regístrate aquí: https://forms.gle/hHnBAwtKJVAT4wBJA\n \nParticipantes registrados recibirán el enlace un día antes del taller por correo electrónico.
URL:https://flvchicago.org/event/como-vender-tu-producto/
LOCATION:Online via Zoom
ATTACH;FMTTYPE=image/jpeg:https://flvchicago.org/wp-content/uploads/1.28.26_FLVxBrandingPro-scaled.jpg
ORGANIZER;CN="Foundation of Little Village":MAILTO:info@lvcfchicago.org
END:VEVENT
BEGIN:VEVENT
DTSTART;TZID=America/Chicago:20260204T080000
DTEND;TZID=America/Chicago:20260204T090000
DTSTAMP:20260420T022514
CREATED:20260202T200201Z
LAST-MODIFIED:20260202T200201Z
UID:27215-1770192000-1770195600@flvchicago.org
SUMMARY:Cafecito en la Xquina
DESCRIPTION:Cafecito en La Xquina es un espacio de conversación en español donde los emprendedores se reúnen para platicar de sus experiencias. Es un diálogo abierto\, con experiencias reales\, hablaremos del cuidado de tu dinero. ¿Cómo seguir construyendo el futuro con amor y responsabilidad financiera? Acompáñanos para platicar y aprender juntos sobre: \nPaz mental: La tranquilidad financiera se construye con cariño y atención. \nAutocuidado: Planificar los gastos es un acto de amor propio y respeto a tu esfuerzo. \nDecisiones con propósito: Estrategias para fortalecer la salud financiera de tu negocio y verlo crecer. \nPresentado por: Xamanek Carrasco | FLV Chicago \nEnlace de videollamada: https://meet.google.com/xme-wzka-xhn\nO marque: ‪(US) +1 720-398-5558‬ PIN: ‪418 566 911‬#
URL:https://flvchicago.org/event/cafecito-en-la-xquina-020426/
LOCATION:Online via Google Meet
CATEGORIES:Community Event
ATTACH;FMTTYPE=image/jpeg:https://flvchicago.org/wp-content/uploads/2.4.26_CafecitoxXamanek-scaled.jpg
END:VEVENT
BEGIN:VEVENT
DTSTART;TZID=America/Chicago:20260204T180000
DTEND;TZID=America/Chicago:20260204T200000
DTSTAMP:20260420T022514
CREATED:20260112T222716Z
LAST-MODIFIED:20260112T222716Z
UID:27200-1770228000-1770235200@flvchicago.org
SUMMARY:Juntos Lanzamos
DESCRIPTION:Juntos Lanzamos es un programa intensivo y gratuito de 5 semanas en español\, diseñado para emprendedores que buscan estructurar y fortalecer sus ideas de negocio o iniciar su trayectoria empresarial con una base sólida. \nCandidato Ideal: \n\nTienes una idea de negocio que quieres estructurar\nDeseas iniciar tu trayectoria empresarial con una base sólida\nValoras el aprendizaje práctico y la comunidad\n\nLo Que Aprenderás: \n\nIdentificar tu negocio\nMarketing y redes sociales\nFinanzas y legales básicos\nOperaciones eficientes\nNetworking y presentación\n\nRegístrate aquí: https://docs.google.com/forms/d/e/1FAIpQLSfiouR1K5BRPSpXJk3xj48t-PU4O_U86aLy1IEUOU2JP4r4Bg/viewform
URL:https://flvchicago.org/event/juntos-lanzamos-sp-2026/
LOCATION:Online via Zoom
ATTACH;FMTTYPE=image/png:https://flvchicago.org/wp-content/uploads/JL_FLV_Spring26.png
ORGANIZER;CN="Foundation of Little Village":MAILTO:info@lvcfchicago.org
END:VEVENT
BEGIN:VEVENT
DTSTART;TZID=America/Chicago:20260211T100000
DTEND;TZID=America/Chicago:20260211T110000
DTSTAMP:20260420T022514
CREATED:20260109T210138Z
LAST-MODIFIED:20260109T210138Z
UID:27187-1770804000-1770807600@flvchicago.org
SUMMARY:02.11 | Propiedad Intelectual y Registro de Marcas
DESCRIPTION:📝 Descripción: Un seminario web práctico sobre propiedad intelectual y marcas registradas que explica cómo proteger su marca\, ideas y activos creativos\, evitar errores legales comunes y fortalecer su negocio de manera segura.\n\n🗓️ Horario: Miércoles\, 11 de Febrero\, 2026 a las 10:00am via Zoom\n\n🎙️ Presentadora: Noeli Serna | Serna Legal Services\n\n\n🔗 Regístrate aquí: https://forms.gle/R9n1JE9PFxWTGVvi6\n\nParticipantes registrados recibirán el enlace un día antes del taller por correo electrónico.
URL:https://flvchicago.org/event/propiedad-intelectual-y-registro-de-marcas/
LOCATION:Online via Zoom
ATTACH;FMTTYPE=image/jpeg:https://flvchicago.org/wp-content/uploads/2.11.26_FLVxSernaLegalServices-scaled.jpg
ORGANIZER;CN="Foundation of Little Village":MAILTO:info@lvcfchicago.org
END:VEVENT
BEGIN:VEVENT
DTSTART;TZID=America/Chicago:20260218T080000
DTEND;TZID=America/Chicago:20260218T090000
DTSTAMP:20260420T022514
CREATED:20260202T201140Z
LAST-MODIFIED:20260202T201201Z
UID:27217-1771401600-1771405200@flvchicago.org
SUMMARY:Cafecito en La Xquina
DESCRIPTION:Cafecito en La Xquina es un espacio de conversación en español para emprendedores que se reúnen cada dos miércoles para compartir ideas\, experiencias y mejores prácticas. Conectamos\, aprendemos y crecemos en comunidad mientras disfrutamos de un cafecito. Mantente atento(a) para más detalles. \n  \nEnlace de videollamada: https://meet.google.com/xme-wzka-xhn\nOr dial: ‪(US) +1 720-398-5558‬ PIN: ‪418 566 911‬#
URL:https://flvchicago.org/event/cafecito-en-la-xquina-021826/
LOCATION:Online via Google Meet
ATTACH;FMTTYPE=image/jpeg:https://flvchicago.org/wp-content/uploads/Generic_26_CafecitoXquina-scaled.jpg
END:VEVENT
BEGIN:VEVENT
DTSTART;TZID=America/Chicago:20260225T100000
DTEND;TZID=America/Chicago:20260225T110000
DTSTAMP:20260420T022514
CREATED:20260109T212317Z
LAST-MODIFIED:20260202T185401Z
UID:27189-1772013600-1772017200@flvchicago.org
SUMMARY:02.25 | Square para Empresas Pequeñas
DESCRIPTION:📝 Descripción: Una introducción práctica y dinámica sobre cómo las pequeñas empresas pueden aprovechar Square para aceptar pagos\, dar seguimiento a sus ventas y simplificar sus operaciones diarias. Únete a nosotros para la primera parte de nuestra serie con Square.\n\n🗓️ Horario: Miércoles\, 25 de Febrero\, 2026 a las 10:00am via Zoom\n\n🎙️ Presentador: Chris Mendez | Square\n\n\n🔗 Regístrate aquí: https://forms.gle/pZV94gy5e2MhMn3H6\n\nParticipantes registrados recibirán el enlace un día antes del taller por correo electrónico.
URL:https://flvchicago.org/event/square-para-empresas-pequenas/
LOCATION:Online via Zoom
ATTACH;FMTTYPE=image/jpeg:https://flvchicago.org/wp-content/uploads/2.25.26_FLVxSquare-2-scaled.jpg
ORGANIZER;CN="Foundation of Little Village":MAILTO:info@lvcfchicago.org
END:VEVENT
BEGIN:VEVENT
DTSTART;TZID=America/Chicago:20260311T100000
DTEND;TZID=America/Chicago:20260311T110000
DTSTAMP:20260420T022514
CREATED:20260109T212903Z
LAST-MODIFIED:20260202T201301Z
UID:27193-1773223200-1773226800@flvchicago.org
SUMMARY:03.11 | Estrategias de Marketing para 2026
DESCRIPTION:📝 Descripción: Únase a este seminario web para conocer estrategias actuales de marketing digital que ayudan a las empresas a mantenerse visibles y competitivas en línea. Descubra enfoques prácticos para atraer audiencias y adaptarse a las tendencias digitales.\n\n🗓️ Horario: Miércoles\, 11 de Marzo\, 2026 a las 10:00am via Zoom\n\n🎙️ Presentadora: Marileenny Figuera | Atalia World\n\n\n🔗 Regístrate aquí: https://forms.gle/YcAR13ayyV2Rcp2t5\n\nParticipantes registrados recibirán el enlace un día antes del taller por correo electrónico.
URL:https://flvchicago.org/event/estrategias-de-marketing-para-2026/
LOCATION:Online via Zoom
ATTACH;FMTTYPE=image/jpeg:https://flvchicago.org/wp-content/uploads/03.11.26_FLVxAtaliaWorld-2-scaled.jpg
ORGANIZER;CN="Foundation of Little Village":MAILTO:info@lvcfchicago.org
END:VEVENT
BEGIN:VEVENT
DTSTART;TZID=America/Chicago:20260318T080000
DTEND;TZID=America/Chicago:20260318T090000
DTSTAMP:20260420T022514
CREATED:20260311T210128Z
LAST-MODIFIED:20260312T163814Z
UID:27269-1773820800-1773824400@flvchicago.org
SUMMARY:Cafecito En La Xquina
DESCRIPTION:Lealtad de Clientes y Ventas a Largo Plazo – Ventas por Suscripción \nAcompáñanos a escuchar a Katia Tamara de Canela Granola que nos va a compartir cómo gestiona las este modelo de negocio. \n\n¿Qué son las ventas por suscripción?\nCómo iniciar un negocio basado en suscripciones\nIdeas para retener clientes\n\nUtilice el enlace de Google para conectarse: https://meet.google.com/xme-wzka-xhn\nOr dial: ‪(US) +1 720-398-5558‬\nPIN: ‪418 566 911‬#
URL:https://flvchicago.org/event/cafecito-3-18-26/
LOCATION:Online via Google Meet
CATEGORIES:Community Event
ATTACH;FMTTYPE=image/jpeg:https://flvchicago.org/wp-content/uploads/3.18.26_CafecitoxKatia-scaled.jpg
END:VEVENT
BEGIN:VEVENT
DTSTART;TZID=America/Chicago:20260325T100000
DTEND;TZID=America/Chicago:20260325T110000
DTSTAMP:20260420T022514
CREATED:20260312T160141Z
LAST-MODIFIED:20260312T160141Z
UID:27275-1774432800-1774436400@flvchicago.org
SUMMARY:03.25 | De Ahorrar a Invertir: Cómo Empezar con Confianza
DESCRIPTION:📝 Descripción: Este taller digital ofrece una introducción práctica para ayudarte a determinar si estás listo para comenzar a invertir. Los participantes aprenderán a evaluar su salud financiera\, establecer metas claras\, comprender conceptos básicos de inversión e identificar riesgos comunes. Al finalizar la sesión\, tendrás una idea más clara de tu nivel de preparación y de los próximos pasos para empezar a invertir con confianza. \n\n🗓️ Horario: Miércoles\, 25 de Marzo\, 2026 a las 10:00am via Zoom\n🎙️ Presentador: Rene Rivas | Financial Advisor | Merrill Lynch\n🔗 Registro: https://forms.gle/FTmEXKah43wmH6ZB9
URL:https://flvchicago.org/event/invertir-como-empezar-03-25-26/
LOCATION:Online via Zoom
ATTACH;FMTTYPE=image/jpeg:https://flvchicago.org/wp-content/uploads/03.25.26_FLVxMerrill.jpg
ORGANIZER;CN="Foundation of Little Village":MAILTO:info@lvcfchicago.org
END:VEVENT
BEGIN:VEVENT
DTSTART;TZID=America/Chicago:20260401T080000
DTEND;TZID=America/Chicago:20260401T090000
DTSTAMP:20260420T022514
CREATED:20260312T163559Z
LAST-MODIFIED:20260312T163841Z
UID:27286-1775030400-1775034000@flvchicago.org
SUMMARY:Cafecito en La Xquina
DESCRIPTION:Negocios Prósperos\, Mentes Fuertes \nConstruir un negocio mientras lidiamos con nuestras emociones y la ansiedad profesional. \n\nCrear un negocio no es una carrera\nLa comparación no ayuda\, te hace perder en enfoque\nUna mente sana\, construye negocios sólidos\n\nUtilice el enlace de Google para conectarse: https://meet.google.com/xme-wzka-xhn\nO marca: ‪(US) +1 720-398-5558‬ – PIN: ‪418 566 911‬#
URL:https://flvchicago.org/event/negocios-prosperos-mentes-fuertes/
LOCATION:Online via Google Meet
CATEGORIES:Community Event
ATTACH;FMTTYPE=image/jpeg:https://flvchicago.org/wp-content/uploads/4.1.26_CafecitoxAtaliaWorld-scaled.jpg
END:VEVENT
BEGIN:VEVENT
DTSTART;TZID=America/Chicago:20260408T100000
DTEND;TZID=America/Chicago:20260408T110000
DTSTAMP:20260420T022514
CREATED:20260312T161643Z
LAST-MODIFIED:20260312T161643Z
UID:27278-1775642400-1775646000@flvchicago.org
SUMMARY:04.08 | Del Anuncio al Cliente: Fundamentos de Google Ads
DESCRIPTION:📝 Descripción: Una introducción clara y práctica a Google Ads para personas que desean comenzar a anunciar su negocio en línea. Los participantes aprenderán los conceptos básicos de la plataforma\, cómo crear sus primeros anuncios y cómo llegar al público adecuado con un presupuesto controlado. Ideal para emprendedores y pequeños negocios que buscan aumentar su visibilidad y atraer más clientes a través de Google. \n\n🗓️ Horario: Miércoles\, 8 de Abril\, 2026 a las 10:00am via Zoom\n🎙️ Presentadora: Karina Tijerina | Director of Accounts | Headturn Creative\n🔗 Registro: https://forms.gle/2mKjeF3xK2jt2F728
URL:https://flvchicago.org/event/04-08-26-fundamentos-de-google-ads/
LOCATION:Online via Zoom
ATTACH;FMTTYPE=image/jpeg:https://flvchicago.org/wp-content/uploads/04.08.26_FLVxHeadturn-scaled.jpg
ORGANIZER;CN="Foundation of Little Village":MAILTO:info@lvcfchicago.org
END:VEVENT
BEGIN:VEVENT
DTSTART;TZID=America/Chicago:20260415T080000
DTEND;TZID=America/Chicago:20260415T090000
DTSTAMP:20260420T022514
CREATED:20260202T194017Z
LAST-MODIFIED:20260413T193644Z
UID:27211-1776240000-1776243600@flvchicago.org
SUMMARY:Cafecito en La Xquina
DESCRIPTION:¡SOÑANDO\, PLANIFICANDO Y ACCIONANDO!\nTODO EMPEZÓ CON UN SUEÑO \nÚnete a nosotros y plática con Nancy Juárez de Placita Market que nos transmitirá su experiencia de convertir su sueño de negocio en realidad y cómo continúa fortaleciéndolo. \nHablaremos sobre: \n\nEl valor de empezar\, incluso cuando no todo es perfecto.\nLa constancia necesaria para crecer.\nLa pasión que impulsa a seguir adelante.\n\nEnlace de videollamada: https://meet.google.com/xme-wzka-xhn\nO marca: ‪(US) +1 720-398-5558‬ – PIN: ‪418 566 911‬#
URL:https://flvchicago.org/event/cafecito-en-la-xquina/
LOCATION:Online via Google Meet
ATTACH;FMTTYPE=image/jpeg:https://flvchicago.org/wp-content/uploads/4.15.26_CafecitoxPlacita-Market-scaled.jpg
END:VEVENT
BEGIN:VEVENT
DTSTART;TZID=America/Chicago:20260422T100000
DTEND;TZID=America/Chicago:20260422T110000
DTSTAMP:20260420T022514
CREATED:20260318T184215Z
LAST-MODIFIED:20260326T185433Z
UID:27292-1776852000-1776855600@flvchicago.org
SUMMARY:04.22 | Cómo las Empresas Utilizan el Crédito
DESCRIPTION:📝 Descripción: ¿Eres emprendedor o tienes un pequeño negocio y quieres tomar mejores decisiones financieras? Acompáñanos en este taller donde hablaremos de cómo las empresas utilizan el crédito de forma estratégica para crecer\, manejar el flujo de efectivo y evitar errores costosos. Aprende de manera clara y práctica para que el crédito trabaje a favor de tu negocio. \n\n🗓️ Horario: Miércoles\, 22 de Abril\, 2026 a las 10:00am via Zoom\n🎙️ Presentador: Gaston Linan | Community Financial Wellness Advisor | Verve Credit Union\n🔗 Registro: https://forms.gle/hk7tKJz5FkQf1aiTA
URL:https://flvchicago.org/event/04-22-26-empresas-y-credito/
LOCATION:Online via Zoom
ATTACH;FMTTYPE=image/jpeg:https://flvchicago.org/wp-content/uploads/04.22.26_FLVx-Verve-1-scaled.jpg
ORGANIZER;CN="Foundation of Little Village":MAILTO:info@lvcfchicago.org
END:VEVENT
BEGIN:VEVENT
DTSTART;TZID=America/Chicago:20260429T080000
DTEND;TZID=America/Chicago:20260429T090000
DTSTAMP:20260420T022514
CREATED:20260413T205633Z
LAST-MODIFIED:20260413T205633Z
UID:27326-1777449600-1777453200@flvchicago.org
SUMMARY:Cafecito en la Xquina
DESCRIPTION:SER DIFERENTE ES IMPORTANTE\, PERO SER RELEVANTE ES MEJOR \nAlejandro Abaunza de Nice and Clean\, nos va a platicar de estrategias que perduran. Hablaremos sobre: \n\nSer diferente genera ventas.\nLa conexión emocional y su importancia con el producto.\nEnamórate de las necesidades de tu cliente y destaca de todos los demás.\nSe parte de la comunidad y genera más ingresos.\n\nEnlace de videollamada: https://meet.google.com/xme-wzka-xhn\nO marque: ‪(US) +1 720-398-5558‬ PIN: ‪418 566 911‬#
URL:https://flvchicago.org/event/cafecito-042926/
LOCATION:Online via Google Meet
ATTACH;FMTTYPE=image/jpeg:https://flvchicago.org/wp-content/uploads/4.29.26_CafecitoxNiceandClean-scaled.jpg
END:VEVENT
BEGIN:VEVENT
DTSTART;TZID=America/Chicago:20260506T100000
DTEND;TZID=America/Chicago:20260506T110000
DTSTAMP:20260420T022514
CREATED:20260312T162036Z
LAST-MODIFIED:20260312T162036Z
UID:27284-1778061600-1778065200@flvchicago.org
SUMMARY:05.06 | Planeación de Retiro para Emprendedores
DESCRIPTION:📝 Descripción: Este taller ofrece una visión práctica de la planificación para la jubilación\, diseñada específicamente para propietarios de negocios. Los participantes aprenderán cómo construir seguridad financiera a largo plazo\, conocerán las opciones de cuentas de retiro disponibles para emprendedores y cómo alinear sus metas personales de jubilación con la estrategia de su negocio. \n\n🗓️ Horario: Miércoles\, 6 de Mayo\, 2026 a las 10:00am via Zoom\n🎙️ Presentador: Pablo Torres | Financial Advisor | Northwestern Mutual\n🔗 Registro: https://forms.gle/d8KYyTjavRijrRe67
URL:https://flvchicago.org/event/05-06-26-planeacion-de-retiro/
LOCATION:Online via Zoom
ATTACH;FMTTYPE=image/jpeg:https://flvchicago.org/wp-content/uploads/05.06.26_FLVxPabloWealthTalks-1-scaled.jpg
ORGANIZER;CN="Foundation of Little Village":MAILTO:info@lvcfchicago.org
END:VEVENT
BEGIN:VEVENT
DTSTART;TZID=America/Chicago:20260513T080000
DTEND;TZID=America/Chicago:20260513T090000
DTSTAMP:20260420T022514
CREATED:20260413T212156Z
LAST-MODIFIED:20260413T212156Z
UID:27328-1778659200-1778662800@flvchicago.org
SUMMARY:Cafecito en la Xquina
DESCRIPTION:TENDENCIAS EN PUBLICIDAD QUE HACEN CRECER TU NEGOCIO\nRoxy de Marketing Rox nos va a contar sobre las tendencias que están transformando la manera en que las marcas se comunican con sus clientes. Hablaremos sobre: \n\nImágenes y videos simples que hacen tu negocio visible.\nBranding clave en todos los materiales y canales de comunicación.\nContenido que conecta emocionalmente con el cliente y abre oportunidades.\n\nEnlace de videollamada: https://meet.google.com/xme-wzka-xhn\nO marca: ‪(US) +1 720-398-5558‬ PIN: ‪418 566 911‬#
URL:https://flvchicago.org/event/cafecito-051326/
LOCATION:Online via Google Meet
CATEGORIES:Community Event
ATTACH;FMTTYPE=image/jpeg:https://flvchicago.org/wp-content/uploads/5.13.26_CafecitoxMarketingRox-scaled.jpg
END:VEVENT
BEGIN:VEVENT
DTSTART;TZID=America/Chicago:20260520T100000
DTEND;TZID=America/Chicago:20260520T110000
DTSTAMP:20260420T022514
CREATED:20260408T201358Z
LAST-MODIFIED:20260408T201358Z
UID:27319-1779271200-1779274800@flvchicago.org
SUMMARY:05.20 | Transforma tu Contenido con IA: Más Impacto\, Menos Esfuerzo
DESCRIPTION:📝 Descripción: Descubre cómo aprovechar el poder de la inteligencia artificial para crear contenido de alta calidad de manera eficiente y constante. Este webinar interactivo explorará herramientas prácticas\, estrategias y ejemplos reales para ayudar a los emprendedores a optimizar su proceso de creación de contenido\, fortalecer su voz de marca y ahorrar tiempo valioso. \n  \n🗓️ Horario: Miércoles\, 20 de Mayo\, 2026 a las 10:00am via Zoom \n🎙️ Presentador: Ivan Aguirre | Director Creativo | Trinum Studio \n🔗 Registro: https://forms.gle/SDzZxYwMWdhG4NS69
URL:https://flvchicago.org/event/05-20-transforma-tu-contenido-con-ia/
LOCATION:Online via Zoom
ATTACH;FMTTYPE=image/jpeg:https://flvchicago.org/wp-content/uploads/05.20.26_FLVxTrinum-scaled.jpg
ORGANIZER;CN="Foundation of Little Village":MAILTO:info@lvcfchicago.org
END:VEVENT
BEGIN:VEVENT
DTSTART;TZID=America/Chicago:20260527T080000
DTEND;TZID=America/Chicago:20260527T090000
DTSTAMP:20260420T022514
CREATED:20260413T212840Z
LAST-MODIFIED:20260413T212918Z
UID:27332-1779868800-1779872400@flvchicago.org
SUMMARY:Cafecito en la Xquina
DESCRIPTION:REDES QUE VENDEN DE SEGUIDORES A CLIENTES \n\nTomate un cafecito virtual con Lety de Very Bonita y aprende como aumentar la visibilidad de tu marca. Hablaremos sobre: \n\nCómo generar contenido para mantener visibilidad.\nInteractuar con los seguidores y crear comunidad.\nConvertir seguidores en clientes.\n\nUtilice el enlace de Google para conectarse: https://meet.google.com/xme-wzka-xhn\nO marca: ‪(US) +1 720-398-5558‬ – PIN: ‪418 566 911‬#
URL:https://flvchicago.org/event/cafecito-052726/
LOCATION:Online via Google Meet
CATEGORIES:Community Event
ATTACH;FMTTYPE=image/jpeg:https://flvchicago.org/wp-content/uploads/5.27.26_CafecitoxVeryBonitaInc-scaled.jpg
END:VEVENT
END:VCALENDAR